BEGIN:VCALENDAR
VERSION:2.0
PRODID:-//&gt;AUGE Wien - ECPv6.15.20//NONSGML v1.0//EN
CALSCALE:GREGORIAN
METHOD:PUBLISH
X-WR-CALNAME:&gt;AUGE Wien
X-ORIGINAL-URL:https://wien.auge.or.at
X-WR-CALDESC:Veranstaltungen für &gt;AUGE Wien
REFRESH-INTERVAL;VALUE=DURATION:PT1H
X-Robots-Tag:noindex
X-PUBLISHED-TTL:PT1H
BEGIN:VTIMEZONE
TZID:Europe/Berlin
BEGIN:DAYLIGHT
TZOFFSETFROM:+0100
TZOFFSETTO:+0200
TZNAME:CEST
DTSTART:20250330T010000
END:DAYLIGHT
BEGIN:STANDARD
TZOFFSETFROM:+0200
TZOFFSETTO:+0100
TZNAME:CET
DTSTART:20251026T010000
END:STANDARD
BEGIN:DAYLIGHT
TZOFFSETFROM:+0100
TZOFFSETTO:+0200
TZNAME:CEST
DTSTART:20260329T010000
END:DAYLIGHT
BEGIN:STANDARD
TZOFFSETFROM:+0200
TZOFFSETTO:+0100
TZNAME:CET
DTSTART:20261025T010000
END:STANDARD
BEGIN:DAYLIGHT
TZOFFSETFROM:+0100
TZOFFSETTO:+0200
TZNAME:CEST
DTSTART:20270328T010000
END:DAYLIGHT
BEGIN:STANDARD
TZOFFSETFROM:+0200
TZOFFSETTO:+0100
TZNAME:CET
DTSTART:20271031T010000
END:STANDARD
END:VTIMEZONE
BEGIN:VEVENT
DTSTART;TZID=Europe/Berlin:20260501T090000
DTEND;TZID=Europe/Berlin:20260501T140000
DTSTAMP:20260420T115530
CREATED:20260305T143817Z
LAST-MODIFIED:20260305T143817Z
UID:10000084-1777626000-1777644000@wien.auge.or.at
SUMMARY:Heraus zum 1. Mai
DESCRIPTION:Wie jedes Jahr ist die AUGE Wien gemeinsam mit der Unabhängigen Gewerkschaftsfraktion im ÖGB am 1. Mai aktiv. \nAb 9.00 Uhr sind wir mit einem Infostand am Wiener Ring (Dr. Karl-Renner-Ring\, Endstation Straßenbahn 46\, 49\, U2-\, U3 Station Volkstheater) vertreten. \nSchau vorbei\, wir freuen uns auf Dich!
URL:https://wien.auge.or.at/event/heraus-zum-1-mai/
LOCATION:Wien
END:VEVENT
BEGIN:VEVENT
DTSTART;TZID=Europe/Berlin:20260507T163000
DTEND;TZID=Europe/Berlin:20260507T193000
DTSTAMP:20260420T115530
CREATED:20260227T102903Z
LAST-MODIFIED:20260227T105248Z
UID:10000076-1778171400-1778182200@wien.auge.or.at
SUMMARY:AUGE Akademie: Einführung in die Rechtlichen Grundlagen im Arbeitsrecht
DESCRIPTION:In diesem Modul wird das Verhältnis der Rechtsquellen zueinander erläutert und aufgezeigt\, welche davon im Arbeitsrecht von Bedeutung sind. Zudem klären wir\, was unter einem Vertrag zu verstehen ist und welche Vertragstypen es gibt. Praxisnah beschäftigen wir uns mit den wichtigsten rechtlichen Grundlagen. Anhand von Fragestellungen aus der betrieblichen Praxis sowie aus der eigenen Arbeitserfahrung werden die rechtlichen Basics für die betriebsrätliche Arbeit anschaulich vermittelt. \nVortragende: Vera Koller \nJetzt anmelden
URL:https://wien.auge.or.at/event/auge-akademie-einfuehrung-in-die-rechtlichen-grundlagen-im-arbeitsrecht/
LOCATION:AUGE Wien\, Belvederegasse 10/1\, Wien\, Wien\, 1040\, Austria
CATEGORIES:Bildung
ORGANIZER;CN="AUGE/UG":MAILTO:auge@ug-oegb.at
END:VEVENT
BEGIN:VEVENT
DTSTART;TZID=Europe/Berlin:20260515T140000
DTEND;TZID=Europe/Berlin:20260517T180000
DTSTAMP:20260420T115530
CREATED:20260313T103632Z
LAST-MODIFIED:20260313T103632Z
UID:10000089-1778853600-1779040800@wien.auge.or.at
SUMMARY:Kritische Literaturtage 2026: Literatur für die Weltverbesserung
DESCRIPTION:Wir sind auch dieses Jahr gemeinsam mit den Kolleg:innen der Unabhängigen Gewerkschaftsfraktion im ÖGB (UG) bei den Kritischen Literaturtagen (Krilit) mit einem Infotisch vertreten. \nBei der Literaturmesse abseits des Mainstreams präsentieren unabhängige und kleine Verlage aus Wien und dem deutschsprachigen Raum ihre alternativen\, gesellschafts- und sozialkritischen Bücher. Ebenso vertreten sind politische Initiativen\, die Zeitschriften und Broschüren herausgeben. Die inhaltlichen Schwerpunkte bilden die Arbeitswelt und gewerkschaftliche Bemühungen\, ist die Krilit ursprünglich vom ÖGB ausgegangen. \n34 teilnehmende Verlage und Initiativen. 15 Lesungen im Rahmen der Messe. Eine Abendveranstaltung. Kinderbuchausstellung „Yuki liest!“ \nÖffnungszeiten\nFreitag\, 15. Mai: 14–20 Uhr\nSamstag\, 16. Mai: 12–18 Uhr\nSonntag\, 17. Mai: 12–18 Uhr
URL:https://wien.auge.or.at/event/kritische-literaturtage-2026-literatur-fuer-die-weltverbesserung/
LOCATION:Brunnenpassage\, Brunnengasse 71 / Yppenplatz\, Wien\, Wien\, 1160\, Austria
END:VEVENT
BEGIN:VEVENT
DTSTART;TZID=Europe/Berlin:20260520T180000
DTEND;TZID=Europe/Berlin:20260520T200000
DTSTAMP:20260420T115530
CREATED:20260416T130122Z
LAST-MODIFIED:20260416T130122Z
UID:10000093-1779300000-1779307200@wien.auge.or.at
SUMMARY:Offener AUGE Wien Vorstand
DESCRIPTION:Wir wollen mit euch ins Gespräch kommen und laden ab sofort regelmäßig zum Offenen AUGE Wien Vorstand. \nDiesmal mit diesem Thema: \nStreik in der IT Branche \nDie IT-Branche musste heuer erstmals im Rahmen der Gehaltsverhandlungen streiken. Unser AUGE/UG-Sekretär Albert Steinhauser ist in der Abteilung Interessensvertretung der GPA genau für diesen Kollektivvertrag zuständig und für die Verhandlungen verantwortlich. Wir wollen gemeinsam mit ihm einen Blick hinter die Kulissen machen. Welche Fragen und Herausforderungen stellen sich\, wenn eine Branche in den Streik geführt wird? Was braucht es\, um zu streiken und welche Risiken bringt ein Streik mit sich? Wer trifft\, welche Entscheidungen? Und warum kommt es am Ende eines Streiks zu einem Abschluss\, der nach Eigeneinschätzung der Verhandler*innen “ein sehr harter Kompromiss” war?  Ziel ist es sich vertraulich zu all diesen Fragen auszutauschen und fraktionsintern Schlüsse aus den Erfahrungen dieser Streiks zu ziehen. \nWenn du vorbei kommen möchtest\, schick uns bitte ein Mail an office@auge.or.at mit dem Betreff “Offener Vorstand”
URL:https://wien.auge.or.at/event/offener-auge-wien-vorstand/
LOCATION:AUGE Wien\, Belvederegasse 10/1\, Wien\, Wien\, 1040\, Austria
CATEGORIES:Mitmachen
ORGANIZER;CN="AUGE Wien":MAILTO:office@auge.or.at
END:VEVENT
BEGIN:VEVENT
DTSTART;TZID=Europe/Berlin:20260530T090000
DTEND;TZID=Europe/Berlin:20260530T170000
DTSTAMP:20260420T115530
CREATED:20260227T103607Z
LAST-MODIFIED:20260227T105222Z
UID:10000077-1780131600-1780160400@wien.auge.or.at
SUMMARY:Ökonomische Grundlagen Teil 2
DESCRIPTION:Ökonomische Grundlagen Teil 2 | 30.5 9:00-17:00 \nZweites Modul Ökonomische Grundlagen für Gewerkschafter:innen mit folgenden inhaltlichen Schwerpunkten: Im zweiten Teil wird der Bogen weiter gespannt und wir behandeln unterschiedliche Marktformen und verwenden das Marktdiagramm für qualitative Aussagen über die Entwicklung von Mengen und Preisen. Wir treffen die wichtige Unterscheidung zwischen Konjunktur und langfristigem Wachstum und gehen der Frage nach\, inwieweit das Bruttoinlandsprodukt ein nützlicher Indikator ist. Weiters sehen wir uns zwei wichtige Akteure des Wirtschaftsgeschehens näher an: Den Staat\, der häufig Budgetdefizite eingeht sowie das Eurosystem\, das über die Zinsen einen Einfluss auf das Wirtschaftsgeschehen ausübt. Weitere Themen sind Fälle von Marktversagen wie externe Effekte und öffentliche Güter. Anhand des Themas „Macht und Ökonomie“ widmen wir uns der Kritik an der Mainstream-Ökonomie. Einige Ausführungen über die Beiträge prominenter Ökonom:innen runden den Kurs ab. \nVortragender: Alfred Stiglbauer \nJetzt anmelden
URL:https://wien.auge.or.at/event/oekonomische-grundlagen-teil-2/
LOCATION:AUGE Wien\, Belvederegasse 10/1\, Wien\, Wien\, 1040\, Austria
CATEGORIES:Bildung
ORGANIZER;CN="AUGE Wien":MAILTO:office@auge.or.at
END:VEVENT
END:VCALENDAR